BEGIN:VCALENDAR
VERSION:2.0
PRODID:icalendar-ruby
CALSCALE:GREGORIAN
METHOD:PUBLISH
BEGIN:VEVENT
DTSTAMP:20260420T131317Z
UID:21-354893@peaceotsego.org
DTSTART:20260426T190000Z
DTEND:20260426T200000Z
CLASS:PUBLIC
CREATED:20260417T142747
DESCRIPTION:4/17 6:30 pm Bunco \n4/19 9:30 am Service\, catechism\n4/19 10
 :45 am Usher training\n4/21 6:00 pm Council  \n4/22 6:30 pm Pre-call mee
 ting \n4/23 6:30 pm Bible study group at Peace \n4/25 9:30 am Christian 
 theology \n4/26 9:30 am Service\, catechism 
LAST-MODIFIED:20260417T142747
LOCATION:
SUMMARY:This week at Peace 
URL;VALUE=URI:https://peaceotsego.org/events/this-week-at-peace--21/2026-04
 -26
END:VEVENT
END:VCALENDAR
