BEGIN:VCALENDAR
VERSION:2.0
PRODID:icalendar-ruby
CALSCALE:GREGORIAN
METHOD:PUBLISH
BEGIN:VEVENT
DTSTAMP:20260420T130521Z
UID:22-354894@peaceotsego.org
DTSTART:20260426T190000Z
DTEND:20260426T200000Z
CLASS:PUBLIC
CREATED:20260417T142911
DESCRIPTION:April 22nd 6:30 pm      Pre-call meeting \nMay 10th 9:30 am
         Mother's Day\nMay 24th 9:30 am and following Student recogniti
 on\, end of year celebration \nMay 31st 9:30 am   Timmermann farewell 
LAST-MODIFIED:20260417T142911
LOCATION:
SUMMARY:Down the road at Peace 
URL;VALUE=URI:https://peaceotsego.org/events/down-the-road-at-peace--22/202
 6-04-26
END:VEVENT
END:VCALENDAR
